Workbook
Name Заказчики_Названия: OFFSET('Заказчики'!$B$5,0,0,MAX(1,COUNTA('Заказчики'!$B$5:$B$154)),1)
Name Поставщики_Названия: OFFSET('Поставщики'!$B$5,0,0,MAX(1,COUNTA('Поставщики'!$B$5:$B$154)),1)
Name Реестр_Процедуры: OFFSET('Реестр'!$C$3,0,0,MAX(1,COUNTA('Реестр'!$C$3:$C$202)),1)
Name Причины: 'Справочники'!$A$66:$A$79
Name Причины_Отказа: 'Справочники'!$A$66:$A$72
Name Причины_Проигрыша: 'Справочники'!$A$73:$A$79
Name Сотрудники_Список: 'Справочники'!$A$96:$A$98
Name Курс_ЦБ: 'Справочники'!$B$4

Sheet Реестр
A1: Мониторинг | L1: Подготовка заявки | V1: Подача | Y1: Подведение итогов | AL1: Служебное
A2: № п/п | B2: Площадка | C2: № процедуры | D2: Заказчик | E2: Предмет закупки | F2: НМЦ | G2: Дата окончания подачи | H2: Статус | I2: Приоритет | J2: Ссылка на закупку | K2: Ответственный за мониторинг | L2: Статус КП | M2: Валюта | N2: Цена КП в валюте | O2: Цена КП в рублях | P2: Поставщик | Q2: Ответственный за заявку | R2: Обеспечение заявки | S2: Сумма обеспечения | T2: Статус обеспечения | U2: Ссылка на папку с документами | V2: Статус подачи | W2: Дата подачи документов | X2: Ссылка на заявку | Y2: Дата переторжки | Z2: Цена до переторжки | AA2: Цена после переторжки | AB2: % снижения | AC2: Кто принимал решение об участии в переторжке | AD2: Дата подведения итогов | AE2: Результат | AF2: Причина | AG2: № договора | AH2: Дата договора | AI2: Сумма договора | AJ2: Статус исполнения | AK2: Дата оплаты | AL2: Этап | AM2: Итог для дашборда
A3: =IF(COUNTA($B3:$K3)=0,"",COUNT($A$2:A2)+1) | B3: Bidzaar | C3: BZ-2026-004512 | D3: ООО «Ромашка» | E3: ДЕМО. Поставка кабельно-проводниковой продукции | F3: 1250000 | G3: 46283 | H3: Новая | I3: Средний | J3: https://bidzaar.com/procedures/004512 | K3: Тендерный специалист | O3: =IF($N3="","",IF($M3="Доллары",$N3*Справочники!$B$4,$N3)) | AB3: =IF(OR($Z3="",$AA3="",$Z3=0),"",($Z3-$AA3)/$Z3) | AL3: =IF($H3="","",IFERROR(VLOOKUP($H3,Справочники!$A$8:$B$22,2,0),"")) | AM3: =IF($AE3<>"",$AE3,IF(OR($H3="Выиграна",$H3="Договор заключён",$H3="Договор исполняется",$H3="Исполнен/закрыт"),"Выиграна",IF($H3="Проиграна","Проиграна",IF($H3="Отменена заказчиком","Отменена заказчиком",""))))
A4: =IF(COUNTA($B4:$K4)=0,"",COUNT($A$2:A3)+1) | B4: B2B-центр | C4: B2B-880502 | D4: ООО «Сибнефтесервис» | E4: ДЕМО. Электрощитовое оборудование для КТП | F4: 5600000 | G4: 46265 | H4: Взята в работу | I4: Высокий | J4: https://b2b-center.ru/market/880502 | K4: Тендерный специалист | L4: Запрошено | M4: Рубли | O4: =IF($N4="","",IF($M4="Доллары",$N4*Справочники!$B$4,$N4)) | P4: ООО «Электрощит-Трейд» | Q4: Тендерный специалист | R4: Не нужно | T4: Не требуется | V4: Не подана | AB4: =IF(OR($Z4="",$AA4="",$Z4=0),"",($Z4-$AA4)/$Z4) | AL4: =IF($H4="","",IFERROR(VLOOKUP($H4,Справочники!$A$8:$B$22,2,0),"")) | AM4: =IF($AE4<>"",$AE4,IF(OR($H4="Выиграна",$H4="Договор заключён",$H4="Договор исполняется",$H4="Исполнен/закрыт"),"Выиграна",IF($H4="Проиграна","Проиграна",IF($H4="Отменена заказчиком","Отменена заказчиком",""))))
A5: =IF(COUNTA($B5:$K5)=0,"",COUNT($A$2:A4)+1) | B5: Bidzaar | C5: BZ-2026-004530 | D5: ГБУЗ «Городская больница № 7» | E5: ДЕМО. Компьютерная техника и оргтехника | F5: 2150000 | G5: 46276 | H5: Готовится заявка | I5: Средний | J5: https://bidzaar.com/procedures/004530 | K5: Смежный сотрудник | L5: Согласовано | M5: Доллары | N5: 22500 | O5: =IF($N5="","",IF($M5="Доллары",$N5*Справочники!$B$4,$N5)) | P5: ООО «АйТи-Поставка» | Q5: Тендерный специалист | R5: Нужно | S5: 107500 | T5: Заявка на оплату | U5: https://disk.example.ru/tendery/BZ-2026-004530 | V5: Готовится | AB5: =IF(OR($Z5="",$AA5="",$Z5=0),"",($Z5-$AA5)/$Z5) | AL5: =IF($H5="","",IFERROR(VLOOKUP($H5,Справочники!$A$8:$B$22,2,0),"")) | AM5: =IF($AE5<>"",$AE5,IF(OR($H5="Выиграна",$H5="Договор заключён",$H5="Договор исполняется",$H5="Исполнен/закрыт"),"Выиграна",IF($H5="Проиграна","Проиграна",IF($H5="Отменена заказчиком","Отменена заказчиком",""))))
A6: =IF(COUNTA($B6:$K6)=0,"",COUNT($A$2:A5)+1) | B6: B2B-центр | C6: B2B-880517 | D6: АО «Волга-Энерго» | E6: ДЕМО. Строительные материалы для склада | F6: 4780000 | G6: 46267 | H6: Заявка подана | I6: Высокий | J6: https://b2b-center.ru/market/880517 | K6: Тендерный специалист | L6: Отправлено | M6: Рубли | N6: 4520000 | O6: =IF($N6="","",IF($M6="Доллары",$N6*Справочники!$B$4,$N6)) | P6: ООО «Стройматериал-Юг» | Q6: Тендерный специалист | R6: Нужно | S6: 239000 | T6: Внесено | U6: https://disk.example.ru/tendery/B2B-880517 | V6: Подана | W6: 46261 | X6: https://b2b-center.ru/market/880517/bid | AB6: =IF(OR($Z6="",$AA6="",$Z6=0),"",($Z6-$AA6)/$Z6) | AL6: =IF($H6="","",IFERROR(VLOOKUP($H6,Справочники!$A$8:$B$22,2,0),"")) | AM6: =IF($AE6<>"",$AE6,IF(OR($H6="Выиграна",$H6="Договор заключён",$H6="Договор исполняется",$H6="Исполнен/закрыт"),"Выиграна",IF($H6="Проиграна","Проиграна",IF($H6="Отменена заказчиком","Отменена заказчиком",""))))
A7: =IF(COUNTA($B7:$K7)=0,"",COUNT($A$2:A6)+1) | B7: Bidzaar | C7: BZ-2026-004401 | D7: ООО «Ромашка» | E7: ДЕМО. Кабель силовой ВВГнг(А)-LS | F7: 7300000 | G7: 46248 | H7: Переторжка | I7: Высокий | J7: https://bidzaar.com/procedures/004401 | K7: Тендерный специалист | L7: Отправлено | M7: Рубли | N7: 6900000 | O7: =IF($N7="","",IF($M7="Доллары",$N7*Справочники!$B$4,$N7)) | P7: ООО «Кабель-Опт» | Q7: Тендерный специалист | R7: Нужно | S7: 365000 | T7: Внесено | U7: https://disk.example.ru/tendery/BZ-2026-004401 | V7: Подана | W7: 46246 | X7: https://bidzaar.com/procedures/004401/bid | Y7: 46266 | Z7: 6900000 | AA7: 6555000 | AB7: =IF(OR($Z7="",$AA7="",$Z7=0),"",($Z7-$AA7)/$Z7) | AC7: Руководитель | AL7: =IF($H7="","",IFERROR(VLOOKUP($H7,Справочники!$A$8:$B$22,2,0),"")) | AM7: =IF($AE7<>"",$AE7,IF(OR($H7="Выиграна",$H7="Договор заключён",$H7="Договор исполняется",$H7="Исполнен/закрыт"),"Выиграна",IF($H7="Проиграна","Проиграна",IF($H7="Отменена заказчиком","Отменена заказчиком",""))))
A8: =IF(COUNTA($B8:$K8)=0,"",COUNT($A$2:A7)+1) | B8: Bidzaar | C8: BZ-2026-004377 | D8: ООО «Сибнефтесервис» | E8: ДЕМО. Крепёж для трубопроводной обвязки | F8: 3050000 | G8: 46240 | H8: Проиграна | I8: Средний | J8: https://bidzaar.com/procedures/004377 | K8: Тендерный специалист | L8: Отправлено | M8: Рубли | N8: 2980000 | O8: =IF($N8="","",IF($M8="Доллары",$N8*Справочники!$B$4,$N8)) | P8: ООО «ПромКрепёж» | Q8: Тендерный специалист | R8: Не нужно | T8: Не требуется | U8: https://disk.example.ru/tendery/BZ-2026-004377 | V8: Подана | W8: 46239 | X8: https://bidzaar.com/procedures/004377/bid | AB8: =IF(OR($Z8="",$AA8="",$Z8=0),"",($Z8-$AA8)/$Z8) | AD8: 46254 | AE8: Проиграна | AF8: Цена выше победителя | AL8: =IF($H8="","",IFERROR(VLOOKUP($H8,Справочники!$A$8:$B$22,2,0),"")) | AM8: =IF($AE8<>"",$AE8,IF(OR($H8="Выиграна",$H8="Договор заключён",$H8="Договор исполняется",$H8="Исполнен/закрыт"),"Выиграна",IF($H8="Проиграна","Проиграна",IF($H8="Отменена заказчиком","Отменена заказчиком",""))))
A9: =IF(COUNTA($B9:$K9)=0,"",COUNT($A$2:A8)+1) | B9: Bidzaar | C9: BZ-2026-004310 | D9: АО «Волга-Энерго» | E9: ДЕМО. Кабельная продукция для подстанции | F9: 6700000 | G9: 46227 | H9: Договор заключён | I9: Высокий | J9: https://bidzaar.com/procedures/004310 | K9: Тендерный специалист | L9: Отправлено | M9: Рубли | N9: 6150000 | O9: =IF($N9="","",IF($M9="Доллары",$N9*Справочники!$B$4,$N9)) | P9: ООО «Кабель-Опт» | Q9: Тендерный специалист | R9: Нужно | S9: 335000 | T9: Возвращено | U9: https://disk.example.ru/tendery/BZ-2026-004310 | V9: Подана | W9: 46225 | X9: https://bidzaar.com/procedures/004310/bid | Y9: 46237 | Z9: 6150000 | AA9: 5950000 | AB9: =IF(OR($Z9="",$AA9="",$Z9=0),"",($Z9-$AA9)/$Z9) | AC9: Руководитель | AD9: 46241 | AE9: Выиграна | AG9: Д-2026-118 | AH9: 46255 | AI9: 5950000 | AJ9: Исполняется | AL9: =IF($H9="","",IFERROR(VLOOKUP($H9,Справочники!$A$8:$B$22,2,0),"")) | AM9: =IF($AE9<>"",$AE9,IF(OR($H9="Выиграна",$H9="Договор заключён",$H9="Договор исполняется",$H9="Исполнен/закрыт"),"Выиграна",IF($H9="Проиграна","Проиграна",IF($H9="Отменена заказчиком","Отменена заказчиком",""))))
A10: =IF(COUNTA($B10:$K10)=0,"",COUNT($A$2:A9)+1) | O10: =IF($N10="","",IF($M10="Доллары",$N10*Справочники!$B$4,$N10)) | AB10: =IF(OR($Z10="",$AA10="",$Z10=0),"",($Z10-$AA10)/$Z10) | AL10: =IF($H10="","",IFERROR(VLOOKUP($H10,Справочники!$A$8:$B$22,2,0),"")) | AM10: =IF($AE10<>"",$AE10,IF(OR($H10="Выиграна",$H10="Договор заключён",$H10="Договор исполняется",$H10="Исполнен/закрыт"),"Выиграна",IF($H10="Проиграна","Проиграна",IF($H10="Отменена заказчиком","Отменена заказчиком",""))))
A11: =IF(COUNTA($B11:$K11)=0,"",COUNT($A$2:A10)+1) | O11: =IF($N11="","",IF($M11="Доллары",$N11*Справочники!$B$4,$N11)) | AB11: =IF(OR($Z11="",$AA11="",$Z11=0),"",($Z11-$AA11)/$Z11) | AL11: =IF($H11="","",IFERROR(VLOOKUP($H11,Справочники!$A$8:$B$22,2,0),"")) | AM11: =IF($AE11<>"",$AE11,IF(OR($H11="Выиграна",$H11="Договор заключён",$H11="Договор исполняется",$H11="Исполнен/закрыт"),"Выиграна",IF($H11="Проиграна","Проиграна",IF($H11="Отменена заказчиком","Отменена заказчиком",""))))
A12: =IF(COUNTA($B12:$K12)=0,"",COUNT($A$2:A11)+1) | O12: =IF($N12="","",IF($M12="Доллары",$N12*Справочники!$B$4,$N12)) | AB12: =IF(OR($Z12="",$AA12="",$Z12=0),"",($Z12-$AA12)/$Z12) | AL12: =IF($H12="","",IFERROR(VLOOKUP($H12,Справочники!$A$8:$B$22,2,0),"")) | AM12: =IF($AE12<>"",$AE12,IF(OR($H12="Выиграна",$H12="Договор заключён",$H12="Договор исполняется",$H12="Исполнен/закрыт"),"Выиграна",IF($H12="Проиграна","Проиграна",IF($H12="Отменена заказчиком","Отменена заказчиком",""))))
A13: =IF(COUNTA($B13:$K13)=0,"",COUNT($A$2:A12)+1) | O13: =IF($N13="","",IF($M13="Доллары",$N13*Справочники!$B$4,$N13)) | AB13: =IF(OR($Z13="",$AA13="",$Z13=0),"",($Z13-$AA13)/$Z13) | AL13: =IF($H13="","",IFERROR(VLOOKUP($H13,Справочники!$A$8:$B$22,2,0),"")) | AM13: =IF($AE13<>"",$AE13,IF(OR($H13="Выиграна",$H13="Договор заключён",$H13="Договор исполняется",$H13="Исполнен/закрыт"),"Выиграна",IF($H13="Проиграна","Проиграна",IF($H13="Отменена заказчиком","Отменена заказчиком",""))))
A14: =IF(COUNTA($B14:$K14)=0,"",COUNT($A$2:A13)+1) | O14: =IF($N14="","",IF($M14="Доллары",$N14*Справочники!$B$4,$N14)) | AB14: =IF(OR($Z14="",$AA14="",$Z14=0),"",($Z14-$AA14)/$Z14) | AL14: =IF($H14="","",IFERROR(VLOOKUP($H14,Справочники!$A$8:$B$22,2,0),"")) | AM14: =IF($AE14<>"",$AE14,IF(OR($H14="Выиграна",$H14="Договор заключён",$H14="Договор исполняется",$H14="Исполнен/закрыт"),"Выиграна",IF($H14="Проиграна","Проиграна",IF($H14="Отменена заказчиком","Отменена заказчиком",""))))
A15: =IF(COUNTA($B15:$K15)=0,"",COUNT($A$2:A14)+1) | O15: =IF($N15="","",IF($M15="Доллары",$N15*Справочники!$B$4,$N15)) | AB15: =IF(OR($Z15="",$AA15="",$Z15=0),"",($Z15-$AA15)/$Z15) | AL15: =IF($H15="","",IFERROR(VLOOKUP($H15,Справочники!$A$8:$B$22,2,0),"")) | AM15: =IF($AE15<>"",$AE15,IF(OR($H15="Выиграна",$H15="Договор заключён",$H15="Договор исполняется",$H15="Исполнен/закрыт"),"Выиграна",IF($H15="Проиграна","Проиграна",IF($H15="Отменена заказчиком","Отменена заказчиком",""))))
A16: =IF(COUNTA($B16:$K16)=0,"",COUNT($A$2:A15)+1) | O16: =IF($N16="","",IF($M16="Доллары",$N16*Справочники!$B$4,$N16)) | AB16: =IF(OR($Z16="",$AA16="",$Z16=0),"",($Z16-$AA16)/$Z16) | AL16: =IF($H16="","",IFERROR(VLOOKUP($H16,Справочники!$A$8:$B$22,2,0),"")) | AM16: =IF($AE16<>"",$AE16,IF(OR($H16="Выиграна",$H16="Договор заключён",$H16="Договор исполняется",$H16="Исполнен/закрыт"),"Выиграна",IF($H16="Проиграна","Проиграна",IF($H16="Отменена заказчиком","Отменена заказчиком",""))))
A17: =IF(COUNTA($B17:$K17)=0,"",COUNT($A$2:A16)+1) | O17: =IF($N17="","",IF($M17="Доллары",$N17*Справочники!$B$4,$N17)) | AB17: =IF(OR($Z17="",$AA17="",$Z17=0),"",($Z17-$AA17)/$Z17) | AL17: =IF($H17="","",IFERROR(VLOOKUP($H17,Справочники!$A$8:$B$22,2,0),"")) | AM17: =IF($AE17<>"",$AE17,IF(OR($H17="Выиграна",$H17="Договор заключён",$H17="Договор исполняется",$H17="Исполнен/закрыт"),"Выиграна",IF($H17="Проиграна","Проиграна",IF($H17="Отменена заказчиком","Отменена заказчиком",""))))
A18: =IF(COUNTA($B18:$K18)=0,"",COUNT($A$2:A17)+1) | O18: =IF($N18="","",IF($M18="Доллары",$N18*Справочники!$B$4,$N18)) | AB18: =IF(OR($Z18="",$AA18="",$Z18=0),"",($Z18-$AA18)/$Z18) | AL18: =IF($H18="","",IFERROR(VLOOKUP($H18,Справочники!$A$8:$B$22,2,0),"")) | AM18: =IF($AE18<>"",$AE18,IF(OR($H18="Выиграна",$H18="Договор заключён",$H18="Договор исполняется",$H18="Исполнен/закрыт"),"Выиграна",IF($H18="Проиграна","Проиграна",IF($H18="Отменена заказчиком","Отменена заказчиком",""))))
A19: =IF(COUNTA($B19:$K19)=0,"",COUNT($A$2:A18)+1) | O19: =IF($N19="","",IF($M19="Доллары",$N19*Справочники!$B$4,$N19)) | AB19: =IF(OR($Z19="",$AA19="",$Z19=0),"",($Z19-$AA19)/$Z19) | AL19: =IF($H19="","",IFERROR(VLOOKUP($H19,Справочники!$A$8:$B$22,2,0),"")) | AM19: =IF($AE19<>"",$AE19,IF(OR($H19="Выиграна",$H19="Договор заключён",$H19="Договор исполняется",$H19="Исполнен/закрыт"),"Выиграна",IF($H19="Проиграна","Проиграна",IF($H19="Отменена заказчиком","Отменена заказчиком",""))))
A20: =IF(COUNTA($B20:$K20)=0,"",COUNT($A$2:A19)+1) | O20: =IF($N20="","",IF($M20="Доллары",$N20*Справочники!$B$4,$N20)) | AB20: =IF(OR($Z20="",$AA20="",$Z20=0),"",($Z20-$AA20)/$Z20) | AL20: =IF($H20="","",IFERROR(VLOOKUP($H20,Справочники!$A$8:$B$22,2,0),"")) | AM20: =IF($AE20<>"",$AE20,IF(OR($H20="Выиграна",$H20="Договор заключён",$H20="Договор исполняется",$H20="Исполнен/закрыт"),"Выиграна",IF($H20="Проиграна","Проиграна",IF($H20="Отменена заказчиком","Отменена заказчиком",""))))
A21: =IF(COUNTA($B21:$K21)=0,"",COUNT($A$2:A20)+1) | O21: =IF($N21="","",IF($M21="Доллары",$N21*Справочники!$B$4,$N21)) | AB21: =IF(OR($Z21="",$AA21="",$Z21=0),"",($Z21-$AA21)/$Z21) | AL21: =IF($H21="","",IFERROR(VLOOKUP($H21,Справочники!$A$8:$B$22,2,0),"")) | AM21: =IF($AE21<>"",$AE21,IF(OR($H21="Выиграна",$H21="Договор заключён",$H21="Договор исполняется",$H21="Исполнен/закрыт"),"Выиграна",IF($H21="Проиграна","Проиграна",IF($H21="Отменена заказчиком","Отменена заказчиком",""))))
... A202: =IF(COUNTA($B202:$K202)=0,"",COUNT($A$2:A201)+1) | O202: =IF($N202="","",IF($M202="Доллары",$N202*Справочники!$B$4,$N202)) | AB202: =IF(OR($Z202="",$AA202="",$Z202=0),"",($Z202-$AA202)/$Z202) | AL202: =IF($H202="","",IFERROR(VLOOKUP($H202,Справочники!$A$8:$B$22,2,0),"")) | AM202: =IF($AE202<>"",$AE202,IF(OR($H202="Выиграна",$H202="Договор заключён",$H202="Договор исполняется",$H202="Исполнен/закрыт"),"Выиграна",IF($H202="Проиграна","Проиграна",IF($H202="Отменена заказчиком","Отменена заказчиком",""))))

Sheet Заказчики
A1: Заказчики
A2: Справочник заказчиков. Только отсюда заказчик попадает в реестр — вписать название руками нельзя.
A3: Демонстрационные записи — замените на свои. Новая строка сразу появляется в выпадающем списке реестра, отдельно ничего настраивать не нужно.
A4: ИНН | B4: Название | C4: Юридический адрес | D4: Контактное лицо | E4: Телефон | F4: E-mail | G4: Регион
A5: 7701012342 | B5: ООО «Ромашка» | C5: 101000, г. Москва, ул. Мясницкая, д. 12, оф. 305 | D5: Петрова Анна Сергеевна | E5: +7 (495) 000-10-01 | F5: zakupki@romashka-demo.ru | G5: Москва
A6: 7801023450 | B6: АО «Северный порт» | C6: 190000, г. Санкт-Петербург, наб. реки Мойки, д. 58 | D6: Ковалёв Игорь Львович | E6: +7 (812) 000-10-02 | F6: tender@sevport-demo.ru | G6: Санкт-Петербург
A7: 6658034560 | B7: ПАО «Уралмаш-Комплект» | C7: 620014, г. Екатеринбург, ул. Малышева, д. 51 | D7: Сафина Регина Маратовна | E7: +7 (343) 000-10-03 | F7: zakupki@uralmash-demo.ru | G7: Свердловская область
A8: 7203045673 | B8: ООО «Сибнефтесервис» | C8: 625000, г. Тюмень, ул. Республики, д. 142 | D8: Гордеев Павел Дмитриевич | E8: +7 (3452) 00-10-04 | F8: tender@sibneft-demo.ru | G8: Тюменская область
A9: 5260056780 | B9: ГБУЗ «Городская больница № 7» | C9: 603005, г. Нижний Новгород, ул. Ульянова, д. 10 | D9: Морозова Елена Викторовна | E9: +7 (831) 000-10-05 | F9: zakupki@gb7-demo.ru | G9: Нижегородская область
A10: 6316067891 | B10: АО «Волга-Энерго» | C10: 443010, г. Самара, ул. Молодогвардейская, д. 204 | D10: Никитин Андрей Олегович | E10: +7 (846) 000-10-06 | F10: tender@volga-energo-demo.ru | G10: Самарская область

Sheet Поставщики
A1: Поставщики
A2: Справочник поставщиков. Только отсюда поставщик попадает в реестр — вписать название руками нельзя.
A3: Демонстрационные записи — замените на свои. Новая строка сразу появляется в выпадающем списке реестра, отдельно ничего настраивать не нужно.
A4: ИНН | B4: Название | C4: Категория товара/услуги | D4: Юридический адрес | E4: Контактное лицо | F4: Телефон | G4: E-mail | H4: Регион
A5: 7721078905 | B5: ООО «Кабель-Опт» | C5: Кабельно-проводниковая продукция | D5: 109029, г. Москва, ул. Нижегородская, д. 32, стр. 4 | E5: Волков Сергей Иванович | F5: +7 (495) 000-20-01 | G5: sales@kabel-opt-demo.ru | H5: Москва
A6: 7812089012 | B6: ООО «ПромКрепёж» | C6: Метизы и крепёж | D6: 196084, г. Санкт-Петербург, Московский пр-т, д. 91 | E6: Егорова Мария Павловна | F6: +7 (812) 000-20-02 | G6: zakaz@promkrepezh-demo.ru | H6: Санкт-Петербург
A7: 5040090120 | B7: ООО «ТехноСпецодежда» | C7: Спецодежда и средства защиты | D7: 140053, Московская обл., г. Котельники, Дзержинское ш., д. 7 | E7: Лебедев Артём Юрьевич | F7: +7 (498) 000-20-03 | G7: opt@spec-demo.ru | H7: Московская область
A8: 6161101233 | B8: ООО «Электрощит-Трейд» | C8: Электрооборудование и щитовая продукция | D8: 344090, г. Ростов-на-Дону, пр-т Стачки, д. 231 | E8: Тимофеева Ольга Борисовна | F8: +7 (863) 000-20-04 | G8: sale@elektroshchit-demo.ru | H8: Ростовская область
A9: 5902112343 | B9: ООО «АйТи-Поставка» | C9: Компьютерная и оргтехника | D9: 614000, г. Пермь, ул. Ленина, д. 68 | E9: Шарипов Ринат Фаритович | F9: +7 (342) 000-20-05 | G9: sales@it-postavka-demo.ru | H9: Пермский край
A10: 2303123453 | B10: ООО «Стройматериал-Юг» | C10: Строительные материалы | D10: 350000, г. Краснодар, ул. Северная, д. 324 | E10: Демченко Ирина Алексеевна | F10: +7 (861) 000-20-06 | G10: zakaz@strmat-demo.ru | H10: Краснодарский край

Sheet Договоры
A1: Договоры
A2: Договоры по выигранным закупкам. Номер процедуры выбирается из реестра — так договор привязан к закупке. Заказчик и поставщик — только из справочников.
A3: Красным подсвечивается заказчик, если он не совпал с заказчиком этой же закупки в реестре, и просроченный срок исполнения по незакрытому договору.
A4: № договора | B4: Дата договора | C4: № процедуры | D4: Заказчик | E4: Поставщик | F4: Предмет договора | G4: Сумма договора | H4: Срок исполнения | I4: Статус исполнения | J4: Дата оплаты | K4: Комментарий
A5: Д-2026-118 | B5: 46255 | C5: BZ-2026-004310 | D5: АО «Волга-Энерго» | E5: ООО «Кабель-Опт» | F5: ДЕМО. Кабельная продукция для подстанции | G5: 5950000 | H5: 46325 | I5: Исполняется | K5: Поставка партиями до 30.10.2026, оплата в течение 30 дней после приёмки.

Sheet Справочники
A1: Справочники
A2: Отсюда берутся все выпадающие списки реестра. Значения можно дополнять — списки подхватят их сами.
A4: Курс ЦБ USD/RUB | B4: 85.6007 | C4: на 29.08.2026, обновляется вручную
A6: Статусы
A7: Статус | B7: Этап | C7: Цвет строки
A8: Новая | B8: Мониторинг | C8: серый
A9: На рассмотрении | B9: Мониторинг | C9: серый
A10: Не участвуем | B10: Мониторинг | C10: красный
A11: Взята в работу | B11: Подготовка заявки | C11: синий
A12: Готовится заявка | B12: Подготовка заявки | C12: синий
A13: Заявка подана | B13: Подача | C13: синий
A14: Переговоры | B14: Подведение итогов | C14: жёлтый
A15: Переторжка | B15: Подведение итогов | C15: жёлтый
A16: Работа комиссии | B16: Подведение итогов | C16: жёлтый
A17: Выиграна | B17: Договор | C17: зелёный
A18: Проиграна | B18: Подведение итогов | C18: красный
... A22: Исполнен/закрыт | B22: Договор | C22: зелёный
A24: Площадки
A25: Bidzaar
A26: B2B-центр
A28: Валюты
A29: Рубли
A30: Доллары
A32: Статус КП
A33: Не требуется
A34: Запрошено
A35: Готовится
A36: Согласовано
A37: Отправлено
... A65: Причины отказа, проигрыша и отмены
A66: Нет опыта по предмету закупки | B66: Причины отказа от участия
A67: Не проходим по квалификационным требованиям
A68: Слишком короткий срок подачи
A69: Цена работает в минус
A70: Нет ресурсов на исполнение
A71: Слишком большое обеспечение заявки
A72: Неприемлемые условия договора
A73: Цена выше победителя | B73: Причины проигрыша и отмены
A74: Отклонена по формальным причинам
A75: Не уложились в срок подачи
...

Sheet Дашборд
A1: Дашборд
A2: Считается сам по листу «Реестр». Руками здесь ничего не заполняется: изменили статус или сумму в реестре — цифры пересчитались.
A4: Воронка по этапам | B4: этап определяется статусом закупки
A5: Этап | B5: Количество закупок | C5: Сумма НМЦ
A6: Мониторинг | B6: =COUNTIF(Реестр!$AL$3:$AL$202,"Мониторинг") | C6: =SUMIF(Реестр!$AL$3:$AL$202,"Мониторинг",Реестр!$F$3:$F$202)
A7: Подготовка заявки | B7: =COUNTIF(Реестр!$AL$3:$AL$202,"Подготовка заявки") | C7: =SUMIF(Реестр!$AL$3:$AL$202,"Подготовка заявки",Реестр!$F$3:$F$202)
A8: Подача | B8: =COUNTIF(Реестр!$AL$3:$AL$202,"Подача") | C8: =SUMIF(Реестр!$AL$3:$AL$202,"Подача",Реестр!$F$3:$F$202)
A9: Подведение итогов | B9: =COUNTIF(Реестр!$AL$3:$AL$202,"Подведение итогов") | C9: =SUMIF(Реестр!$AL$3:$AL$202,"Подведение итогов",Реестр!$F$3:$F$202)
A10: Договор | B10: =COUNTIF(Реестр!$AL$3:$AL$202,"Договор") | C10: =SUMIF(Реестр!$AL$3:$AL$202,"Договор",Реестр!$F$3:$F$202)
A11: Статус не выбран | B11: =COUNT(Реестр!$A$3:$A$202)-SUM(B6:B10) | C11: =SUM(Реестр!$F$3:$F$202)-SUM(C6:C10)
A12: Всего закупок в реестре | B12: =SUM(B6:B11) | C12: =SUM(C6:C11)
A14: Результаты | B14: закупка считается выигранной и по результату, и по договорному статусу
A15: Показатель | B15: Количество | C15: Сумма НМЦ | D15: Сумма договоров
A16: Выиграна | B16: =COUNTIF(Реестр!$AM$3:$AM$202,"Выиграна") | C16: =SUMIF(Реестр!$AM$3:$AM$202,"Выиграна",Реестр!$F$3:$F$202) | D16: =SUMIF(Реестр!$AM$3:$AM$202,"Выиграна",Реестр!$AI$3:$AI$202)
A17: Проиграна | B17: =COUNTIF(Реестр!$AM$3:$AM$202,"Проиграна") | C17: =SUMIF(Реестр!$AM$3:$AM$202,"Проиграна",Реестр!$F$3:$F$202) | D17: =SUMIF(Реестр!$AM$3:$AM$202,"Проиграна",Реестр!$AI$3:$AI$202)
A18: Отменена заказчиком | B18: =COUNTIF(Реестр!$AM$3:$AM$202,"Отменена заказчиком") | C18: =SUMIF(Реестр!$AM$3:$AM$202,"Отменена заказчиком",Реестр!$F$3:$F$202) | D18: =SUMIF(Реестр!$AM$3:$AM$202,"Отменена заказчиком",Реестр!$AI$3:$AI$202)
A19: Всего закупок с результатом | B19: =SUM(B16:B18) | C19: =SUM(C16:C18) | D19: =SUM(D16:D18)
A20: % побед | B20: =IF(B19=0,"",B16/B19) | C20: выигранные от числа закупок, у которых есть результат
A22: Суммы по статусам | B22: сумма НМЦ и сумма заключённых договоров в разрезе статуса
A23: Статус | B23: Количество закупок | C23: Сумма НМЦ | D23: Сумма договоров
A24: Новая | B24: =COUNTIF(Реестр!$H$3:$H$202,"Новая") | C24: =SUMIF(Реестр!$H$3:$H$202,"Новая",Реестр!$F$3:$F$202) | D24: =SUMIF(Реестр!$H$3:$H$202,"Новая",Реестр!$AI$3:$AI$202)
A25: На рассмотрении | B25: =COUNTIF(Реестр!$H$3:$H$202,"На рассмотрении") | C25: =SUMIF(Реестр!$H$3:$H$202,"На рассмотрении",Реестр!$F$3:$F$202) | D25: =SUMIF(Реестр!$H$3:$H$202,"На рассмотрении",Реестр!$AI$3:$AI$202)
A26: Не участвуем | B26: =COUNTIF(Реестр!$H$3:$H$202,"Не участвуем") | C26: =SUMIF(Реестр!$H$3:$H$202,"Не участвуем",Реестр!$F$3:$F$202) | D26: =SUMIF(Реестр!$H$3:$H$202,"Не участвуем",Реестр!$AI$3:$AI$202)
A27: Взята в работу | B27: =COUNTIF(Реестр!$H$3:$H$202,"Взята в работу") | C27: =SUMIF(Реестр!$H$3:$H$202,"Взята в работу",Реестр!$F$3:$F$202) | D27: =SUMIF(Реестр!$H$3:$H$202,"Взята в работу",Реестр!$AI$3:$AI$202)
A28: Готовится заявка | B28: =COUNTIF(Реестр!$H$3:$H$202,"Готовится заявка") | C28: =SUMIF(Реестр!$H$3:$H$202,"Готовится заявка",Реестр!$F$3:$F$202) | D28: =SUMIF(Реестр!$H$3:$H$202,"Готовится заявка",Реестр!$AI$3:$AI$202)
A29: Заявка подана | B29: =COUNTIF(Реестр!$H$3:$H$202,"Заявка подана") | C29: =SUMIF(Реестр!$H$3:$H$202,"Заявка подана",Реестр!$F$3:$F$202) | D29: =SUMIF(Реестр!$H$3:$H$202,"Заявка подана",Реестр!$AI$3:$AI$202)
A30: Переговоры | B30: =COUNTIF(Реестр!$H$3:$H$202,"Переговоры") | C30: =SUMIF(Реестр!$H$3:$H$202,"Переговоры",Реестр!$F$3:$F$202) | D30: =SUMIF(Реестр!$H$3:$H$202,"Переговоры",Реестр!$AI$3:$AI$202)
A31: Переторжка | B31: =COUNTIF(Реестр!$H$3:$H$202,"Переторжка") | C31: =SUMIF(Реестр!$H$3:$H$202,"Переторжка",Реестр!$F$3:$F$202) | D31: =SUMIF(Реестр!$H$3:$H$202,"Переторжка",Реестр!$AI$3:$AI$202)
A32: Работа комиссии | B32: =COUNTIF(Реестр!$H$3:$H$202,"Работа комиссии") | C32: =SUMIF(Реестр!$H$3:$H$202,"Работа комиссии",Реестр!$F$3:$F$202) | D32: =SUMIF(Реестр!$H$3:$H$202,"Работа комиссии",Реестр!$AI$3:$AI$202)
A33: Выиграна | B33: =COUNTIF(Реестр!$H$3:$H$202,"Выиграна") | C33: =SUMIF(Реестр!$H$3:$H$202,"Выиграна",Реестр!$F$3:$F$202) | D33: =SUMIF(Реестр!$H$3:$H$202,"Выиграна",Реестр!$AI$3:$AI$202)
A34: Проиграна | B34: =COUNTIF(Реестр!$H$3:$H$202,"Проиграна") | C34: =SUMIF(Реестр!$H$3:$H$202,"Проиграна",Реестр!$F$3:$F$202) | D34: =SUMIF(Реестр!$H$3:$H$202,"Проиграна",Реестр!$AI$3:$AI$202)
A35: Отменена заказчиком | B35: =COUNTIF(Реестр!$H$3:$H$202,"Отменена заказчиком") | C35: =SUMIF(Реестр!$H$3:$H$202,"Отменена заказчиком",Реестр!$F$3:$F$202) | D35: =SUMIF(Реестр!$H$3:$H$202,"Отменена заказчиком",Реестр!$AI$3:$AI$202)
A36: Договор заключён | B36: =COUNTIF(Реестр!$H$3:$H$202,"Договор заключён") | C36: =SUMIF(Реестр!$H$3:$H$202,"Договор заключён",Реестр!$F$3:$F$202) | D36: =SUMIF(Реестр!$H$3:$H$202,"Договор заключён",Реестр!$AI$3:$AI$202)
A37: Договор исполняется | B37: =COUNTIF(Реестр!$H$3:$H$202,"Договор исполняется") | C37: =SUMIF(Реестр!$H$3:$H$202,"Договор исполняется",Реестр!$F$3:$F$202) | D37: =SUMIF(Реестр!$H$3:$H$202,"Договор исполняется",Реестр!$AI$3:$AI$202)
A38: Исполнен/закрыт | B38: =COUNTIF(Реестр!$H$3:$H$202,"Исполнен/закрыт") | C38: =SUMIF(Реестр!$H$3:$H$202,"Исполнен/закрыт",Реестр!$F$3:$F$202) | D38: =SUMIF(Реестр!$H$3:$H$202,"Исполнен/закрыт",Реестр!$AI$3:$AI$202)
A39: Итого | B39: =SUM(B24:B38) | C39: =SUM(C24:C38) | D39: =SUM(D24:D38)
A41: Все цифры — формулы по листу «Реестр» (200 строк). Лист защищён от правки, чтобы формулу нельзя было случайно затереть: снимается без пароля через «Рецензирование» → «Снять защиту листа».

Sheet Инструкция
A1: Инструкция по заполнению
A2: Кто и на каком этапе заполняет каждую колонку реестра. Ниже таблицы — обязательные поля, курс ЦБ USD/RUB и то, что считается само.
A4: Блок | B4: Колонка реестра | C4: Кто заполняет | D4: На каком этапе | E4: Что писать
A5: Мониторинг | B5: № п/п | C5: Считается само | D5: Мониторинг | E5: Номер появляется сам, как только в строке заполнен номер процедуры. Руками не пишем.
B6: Площадка | C6: Тендерный специалист | D6: Мониторинг | E6: Где нашли закупку: Bidzaar или B2B-центр. Выбор из списка.
B7: № процедуры | C7: Тендерный специалист | D7: Мониторинг | E7: Номер закупки так, как он написан на площадке. По нему договор связывается с закупкой, поэтому номер должен быть точным и не повторяться.
B8: Заказчик | C8: Тендерный специалист | D8: Мониторинг | E8: Только выбор из списка. Названия берутся с листа «Заказчики» — вписать своё нельзя. Нужного заказчика нет — сначала добавьте его строкой на лист «Заказчики», и он сразу появится в списке.
B9: Предмет закупки | C9: Тендерный специалист | D9: Мониторинг | E9: Коротко, что закупают, — как в извещении. Одной строкой, без копирования всего описания.
B10: НМЦ | C10: Тендерный специалист | D10: Мониторинг | E10: Начальная максимальная цена закупки из извещения, в рублях. Только число, без слова «руб.».
B11: Дата окончания подачи | C11: Тендерный специалист | D11: Мониторинг | E11: Крайний срок подачи заявки по извещению. Если до срока осталось меньше трёх дней, ячейка сама становится красной — это сигнал, что заявку пора подавать.
B12: Статус | C12: Тендерный специалист | D12: На всех этапах | E12: Главное поле реестра. Меняем по мере движения закупки: Новая → На рассмотрении → Взята в работу → Готовится заявка → Заявка подана → Переторжка или Работа комиссии → Выиграна или Проиграна → Договор заключён. От статуса красится вся строка и считается дашборд.
B13: Приоритет | C13: Руководитель | D13: Мониторинг | E13: Насколько закупка важна для компании: Высокий, Средний или Низкий. По приоритету видно, за что браться в первую очередь.
B14: Ссылка на закупку | C14: Тендерный специалист | D14: Мониторинг | E14: Адрес страницы закупки на площадке, чтобы открыть её в один щелчок.
B15: Ответственный за мониторинг | C15: Тендерный специалист | D15: Мониторинг | E15: Кто нашёл закупку и следит за её сроками. Выбор из списка сотрудников.
A16: Подготовка заявки | B16: Статус КП | C16: Тендерный специалист | D16: Подготовка заявки | E16: На каком шаге коммерческое предложение поставщика: Не требуется, Запрошено, Готовится, Согласовано, Отправлено.
B17: Валюта | C17: Тендерный специалист | D17: Подготовка заявки | E17: В чём поставщик дал цену: Рубли или Доллары. От этого зависит пересчёт цены — смотрите раздел о курсе ниже.
B18: Цена КП в валюте | C18: Тендерный специалист | D18: Подготовка заявки | E18: Цена поставщика в той валюте, что выбрана в соседней колонке. Только число.
B19: Цена КП в рублях | C19: Считается само | D19: Подготовка заявки | E19: Выбраны рубли — сюда попадает та же цена. Выбраны доллары — цена умножается на «Курс ЦБ USD/RUB» с листа «Справочники». Править эту колонку не нужно.
B20: Поставщик | C20: Тендерный специалист | D20: Подготовка заявки | E20: Только выбор из списка. Названия берутся с листа «Поставщики» — вписать своё нельзя. Нужного поставщика нет — сначала добавьте его на лист «Поставщики».
B21: Ответственный за заявку | C21: Руководитель | D21: Подготовка заявки | E21: Кто собирает документы и подаёт заявку. Выбор из списка сотрудников.
B22: Обеспечение заявки | C22: Тендерный специалист | D22: Подготовка заявки | E22: Нужно или Не нужно — по документации закупки.
B23: Сумма обеспечения | C23: Тендерный специалист | D23: Подготовка заявки | E23: Сумма в рублях. Обязательна, если рядом выбрано «Нужно»: без неё ячейку не сохранить.
B24: Статус обеспечения | C24: Тендерный специалист | D24: Подготовка заявки и далее | E24: Где сейчас деньги: Не требуется, Заявка на оплату, Внесено, Возвращено. После итогов не забывайте ставить «Возвращено» — так видно незакрытые суммы.
B25: Ссылка на папку с документами | C25: Тендерный специалист | D25: Подготовка заявки | E25: Адрес папки, где лежат документы по этой закупке.
A26: Подача | B26: Статус подачи | C26: Тендерный специалист | D26: Подача | E26: Не подана, Готовится, Подана или Отозвана.
B27: Дата подачи документов | C27: Тендерный специалист | D27: Подача | E27: День, когда заявка ушла на площадку.
B28: Ссылка на заявку | C28: Тендерный специалист | D28: Подача | E28: Адрес поданной заявки на площадке. Обязательна, если статус подачи — «Подана».
A29: Подведение итогов | B29: Дата переторжки | C29: Тендерный специалист | D29: Подведение итогов | E29: День переторжки. Обязательна, если статус — «Переторжка»: без даты ячейку не сохранить.
B30: Цена до переторжки | C30: Тендерный специалист | D30: Подведение итогов | E30: Наша цена, с которой мы вышли на переторжку.
B31: Цена после переторжки | C31: Тендерный специалист | D31: Подведение итогов | E31: Наша цена после снижения. Если не снижали — оставьте пусто.
B32: % снижения | C32: Считается само | D32: Подведение итогов | E32: Насколько снизили цену на переторжке. Считается из двух соседних колонок.
B33: Кто принимал решение об участии в переторжке | C33: Руководитель | D33: Подведение итогов | E33: Кто решил идти на переторжку и на какую цену снижаться.
B34: Дата подведения итогов | C34: Тендерный специалист | D34: Подведение итогов | E34: День, когда площадка объявила результат.
B35: Результат | C35: Тендерный специалист | D35: Подведение итогов | E35: Выиграна, Проиграна или Отменена заказчиком. Отсюда дашборд считает долю побед.
B36: Причина | C36: Тендерный специалист | D36: Мониторинг или подведение итогов | E36: Одна колонка на два случая. Отказались участвовать — выберите причину отказа. Проиграли или заказчик отменил закупку — причину проигрыша. Список на листе «Справочники».
B37: № договора | C37: Тендерный специалист | D37: Договор | E37: Номер заключённого договора. Тот же номер заводим строкой на листе «Договоры».
B38: Дата договора | C38: Тендерный специалист | D38: Договор | E38: Дата подписания договора.
B39: Сумма договора | C39: Тендерный специалист | D39: Договор | E39: Сумма договора в рублях. Обычно равна нашей цене после переторжки.
B40: Статус исполнения | C40: Тендерный специалист | D40: Договор | E40: Не начато, Исполняется, Исполнен, Оплачен, Закрыт.
B41: Дата оплаты | C41: Тендерный специалист | D41: Договор | E41: День, когда заказчик оплатил. Пока не оплатили — оставляем пусто.
...
